BEGIN:VCALENDAR
VERSION:2.0
PRODID:SchoolNow
CALSCALE:GREGORIAN
BEGIN:VEVENT
UID:bd883816-81b6-11f0-aac5-02eb822844bf
DTSTAMP:20250825T132351Z
SUMMARY:MCC Coffee & Conversation (for parents/guardians)
URL;VALUE=URI:https://www.albanyschools.org/schools/montessori/calendar/854
 0975/mcc-coffee-conversation-for-parents-guardians
DTSTART:20251008T121500Z
DTEND:20251008T130000Z
END:VEVENT
END:VCALENDAR
