BEGIN:VCALENDAR
VERSION:2.0
PRODID:SchoolNow
CALSCALE:GREGORIAN
BEGIN:VEVENT
UID:d2485254-81b6-11f0-a2ed-0a58a9feac02
DTSTAMP:20250825T132426Z
SUMMARY:MCC Boon Supply Fundraiser
URL;VALUE=URI:https://www.albanyschools.org/schools/montessori/calendar/854
 0976/mcc-boon-supply-fundraiser
DTSTART:20251020T132300Z
DTEND:20251103T152300Z
END:VEVENT
END:VCALENDAR
