BEGIN:VCALENDAR
VERSION:2.0
PRODID:SchoolNow
CALSCALE:GREGORIAN
BEGIN:VEVENT
UID:e58eed1e-81b6-11f0-a1ec-0affee066179
DTSTAMP:20250825T132458Z
SUMMARY:Trunk-or-Treat
URL;VALUE=URI:https://www.albanyschools.org/schools/montessori/calendar/854
 0977/trunk-or-treat
DTSTART:20251029T090000Z
DTEND:20251029T223000Z
END:VEVENT
END:VCALENDAR
