BEGIN:VCALENDAR
VERSION:2.0
PRODID:SchoolNow
CALSCALE:GREGORIAN
BEGIN:VEVENT
UID:ff6fd202-81b6-11f0-82f4-025850da6195
DTSTAMP:20250825T132541Z
SUMMARY:Scholastic Book Fair
URL;VALUE=URI:https://www.albanyschools.org/schools/montessori/calendar/854
 0978/scholastic-book-fair
DTSTART:20251201T142500Z
DTEND:20251205T152500Z
END:VEVENT
END:VCALENDAR
