BEGIN:VCALENDAR
VERSION:2.0
PRODID:SchoolNow
CALSCALE:GREGORIAN
BEGIN:VEVENT
UID:1ae5b1aa-81b7-11f0-b828-02eb822844bf
DTSTAMP:20250917T142814Z
SUMMARY:MCC Restaurant Social (for parents/guardians)
URL;VALUE=URI:https://www.albanyschools.org/schools/montessori/calendar/854
 0979/mcc-restaurant-social-for-parents-guardians
DTSTART:20251210T230000Z
DTEND:20251211T003000Z
END:VEVENT
END:VCALENDAR
