BEGIN:VCALENDAR
VERSION:2.0
PRODID:SchoolNow
CALSCALE:GREGORIAN
BEGIN:VEVENT
UID:43323642-81b7-11f0-a2eb-0affee066179
DTSTAMP:20250825T132735Z
SUMMARY:Family Ice Skating
URL;VALUE=URI:https://www.albanyschools.org/schools/montessori/calendar/854
 0980/family-ice-skating
DTSTART:20260105T043000Z
DTEND:20260105T190000Z
END:VEVENT
END:VCALENDAR
