BEGIN:VCALENDAR
VERSION:2.0
PRODID:SchoolNow
CALSCALE:GREGORIAN
BEGIN:VEVENT
UID:54eee042-81b7-11f0-862e-0a58a9feac02
DTSTAMP:20250825T132805Z
SUMMARY:MCC Get Air Fundraiser
URL;VALUE=URI:https://www.albanyschools.org/schools/montessori/calendar/854
 0981/mcc-get-air-fundraiser
DTSTART:20260119T180000Z
DTEND:20260120T010000Z
END:VEVENT
END:VCALENDAR
