BEGIN:VCALENDAR
VERSION:2.0
PRODID:SchoolNow
CALSCALE:GREGORIAN
BEGIN:VEVENT
UID:65533e06-81b7-11f0-acd5-0a58a9feac02
DTSTAMP:20260331T135116Z
SUMMARY:Multicultural Festival
URL;VALUE=URI:https://www.albanyschools.org/schools/montessori/calendar/854
 0982/multicultural-festival
DTSTART:20260511T220000Z
DTEND:20260511T230000Z
END:VEVENT
END:VCALENDAR
