BEGIN:VCALENDAR
VERSION:2.0
PRODID:SchoolNow
CALSCALE:GREGORIAN
BEGIN:VEVENT
UID:76a9ef38-81b7-11f0-b837-0a58a9feac02
DTSTAMP:20250825T132901Z
SUMMARY:MCC Meeting
URL;VALUE=URI:https://www.albanyschools.org/schools/montessori/calendar/854
 0983/mcc-meeting
DTSTART:20260311T213000Z
DTEND:20260311T230000Z
END:VEVENT
END:VCALENDAR
