BEGIN:VCALENDAR
VERSION:2.0
PRODID:SchoolNow
CALSCALE:GREGORIAN
BEGIN:VEVENT
UID:8a38194e-81b7-11f0-b9a4-02efef4a7877
DTSTAMP:20250825T132934Z
SUMMARY:MCC Art to Remember Fundraiser
URL;VALUE=URI:https://www.albanyschools.org/schools/montessori/calendar/854
 0984/mcc-art-to-remember-fundraiser
DTSTART:20260318T132900Z
DTEND:20260401T142900Z
END:VEVENT
END:VCALENDAR
