BEGIN:VCALENDAR
VERSION:2.0
PRODID:SchoolNow
CALSCALE:GREGORIAN
BEGIN:VEVENT
UID:9a97138a-81b7-11f0-9b0d-02efef4a7877
DTSTAMP:20250825T133002Z
SUMMARY:Spring Dance for grades 4-5
URL;VALUE=URI:https://www.albanyschools.org/schools/montessori/calendar/854
 0985/spring-dance-for-grades-4-5
DTSTART:20260423T220000Z
DTEND:20260423T230000Z
END:VEVENT
END:VCALENDAR
