BEGIN:VCALENDAR
VERSION:2.0
PRODID:SchoolNow
CALSCALE:GREGORIAN
BEGIN:VEVENT
UID:ac3a2c4e-81b7-11f0-94b2-022e31aca1f7
DTSTAMP:20250825T133031Z
SUMMARY:Walk and Ride to School
URL;VALUE=URI:https://www.albanyschools.org/schools/montessori/calendar/854
 0986/walk-and-ride-to-school
DTSTART:20260529T133000Z
DTEND:20260529T143000Z
END:VEVENT
END:VCALENDAR
