BEGIN:VCALENDAR
VERSION:2.0
PRODID:SchoolNow
CALSCALE:GREGORIAN
BEGIN:VEVENT
UID:bbe07dba-81b7-11f0-847e-0a58a9feac02
DTSTAMP:20250825T133057Z
SUMMARY:MCC End of Year Social (for parents/guardians)
URL;VALUE=URI:https://www.albanyschools.org/schools/montessori/calendar/854
 0987/mcc-end-of-year-social-for-parents-guardians
DTSTART:20260529T220000Z
DTEND:20260530T000000Z
END:VEVENT
END:VCALENDAR
