BEGIN:VCALENDAR
VERSION:2.0
PRODID:SchoolNow
CALSCALE:GREGORIAN
BEGIN:VEVENT
UID:518dd93e-81b8-11f0-8761-0afff983aa55
DTSTAMP:20250825T133509Z
SUMMARY:MMS Gear Day
URL;VALUE=URI:https://www.albanyschools.org/schools/montessori/calendar/854
 0988/mms-gear-day
DTSTART:20250926T133400Z
DTEND:20250926T143400Z
END:VEVENT
END:VCALENDAR
