BEGIN:VCALENDAR
VERSION:2.0
PRODID:SchoolNow
CALSCALE:GREGORIAN
BEGIN:VEVENT
UID:603a541c-81b8-11f0-9538-0affe844e53d
DTSTAMP:20250825T133533Z
SUMMARY:Wear Flannel Day
URL;VALUE=URI:https://www.albanyschools.org/schools/montessori/calendar/854
 0989/wear-flannel-day
DTSTART:20251017T133500Z
DTEND:20251017T143500Z
END:VEVENT
END:VCALENDAR
