BEGIN:VCALENDAR
VERSION:2.0
PRODID:SchoolNow
CALSCALE:GREGORIAN
BEGIN:VEVENT
UID:302b372e-8d92-11f0-8837-0affdf6f3aef
DTSTAMP:20250909T153226Z
SUMMARY:Winter Concert and Art Show
URL;VALUE=URI:https://www.albanyschools.org/schools/montessori/calendar/859
 9505/winter-concert-and-art-show
DTSTART:20251216T233000Z
DTEND:20251217T010000Z
END:VEVENT
END:VCALENDAR
