BEGIN:VCALENDAR
VERSION:2.0
PRODID:SchoolNow
CALSCALE:GREGORIAN
BEGIN:VEVENT
UID:a4e184b0-8e4b-11f0-823f-0e5e325a8125
DTSTAMP:20250910T133958Z
SUMMARY:Fall Picture Day
URL;VALUE=URI:https://www.albanyschools.org/schools/montessori/calendar/860
 4879/fall-picture-day
DTSTART:20251009T133900Z
DTEND:20251009T143900Z
END:VEVENT
END:VCALENDAR
