BEGIN:VCALENDAR
VERSION:2.0
PRODID:SchoolNow
CALSCALE:GREGORIAN
BEGIN:VEVENT
UID:0db3cd96-93fa-11f0-b195-0a58a9feac02
DTSTAMP:20250917T191102Z
SUMMARY:Stuffie Day
URL;VALUE=URI:https://www.albanyschools.org/schools/montessori/calendar/863
 3355/stuffie-day
DTSTART:20251125T201000Z
DTEND:20251125T211000Z
END:VEVENT
END:VCALENDAR
