BEGIN:VCALENDAR
VERSION:2.0
PRODID:SchoolNow
CALSCALE:GREGORIAN
BEGIN:VEVENT
UID:1a21ba84-93fa-11f0-9eb3-0e3e0f5850df
DTSTAMP:20250917T191123Z
SUMMARY:Pajama Day
URL;VALUE=URI:https://www.albanyschools.org/schools/montessori/calendar/863
 3356/pajama-day
DTSTART:20251223T201100Z
DTEND:20251223T211100Z
END:VEVENT
END:VCALENDAR
