BEGIN:VCALENDAR
VERSION:2.0
PRODID:SchoolNow
CALSCALE:GREGORIAN
BEGIN:VEVENT
UID:ee0458ce-9496-11f0-8356-0e95b99e68a1
DTSTAMP:20250918T135400Z
SUMMARY:Wear Pink Day
URL;VALUE=URI:https://www.albanyschools.org/schools/montessori/calendar/863
 6967/wear-pink-day
DTSTART:20260106T145300Z
DTEND:20260106T155300Z
END:VEVENT
END:VCALENDAR
