BEGIN:VCALENDAR
VERSION:2.0
PRODID:SchoolNow
CALSCALE:GREGORIAN
BEGIN:VEVENT
UID:01363f0c-9497-11f0-937b-0a58a9feac02
DTSTAMP:20250918T135432Z
SUMMARY:Sports Day
URL;VALUE=URI:https://www.albanyschools.org/schools/montessori/calendar/863
 6968/sports-day
DTSTART:20260204T145400Z
DTEND:20260204T155400Z
END:VEVENT
END:VCALENDAR
