BEGIN:VCALENDAR
VERSION:2.0
PRODID:SchoolNow
CALSCALE:GREGORIAN
BEGIN:VEVENT
UID:10434ba2-9497-11f0-8554-0affc80fff05
DTSTAMP:20250918T135458Z
SUMMARY:Crazy Hair Day
URL;VALUE=URI:https://www.albanyschools.org/schools/montessori/calendar/863
 6969/crazy-hair-day
DTSTART:20260327T135400Z
DTEND:20260327T145400Z
END:VEVENT
END:VCALENDAR
