BEGIN:VCALENDAR
VERSION:2.0
PRODID:SchoolNow
CALSCALE:GREGORIAN
BEGIN:VEVENT
UID:3255358e-9497-11f0-968d-0affc80fff05
DTSTAMP:20250918T135555Z
SUMMARY:Hat Day
URL;VALUE=URI:https://www.albanyschools.org/schools/montessori/calendar/863
 6970/hat-day
DTSTART:20260424T135500Z
DTEND:20260424T145500Z
END:VEVENT
END:VCALENDAR
