BEGIN:VCALENDAR
VERSION:2.0
PRODID:SchoolNow
CALSCALE:GREGORIAN
BEGIN:VEVENT
UID:4dad271a-9497-11f0-94d1-0affe9974651
DTSTAMP:20250918T135641Z
SUMMARY:Favorite Book Day
URL;VALUE=URI:https://www.albanyschools.org/schools/montessori/calendar/863
 6971/favorite-book-day
DTSTART:20260521T135600Z
DTEND:20260521T145600Z
END:VEVENT
END:VCALENDAR
