BEGIN:VCALENDAR
VERSION:2.0
PRODID:SchoolNow
CALSCALE:GREGORIAN
BEGIN:VEVENT
UID:6b060d5e-9497-11f0-92cc-0a58a9feac02
DTSTAMP:20250918T135730Z
SUMMARY:Bright Day
URL;VALUE=URI:https://www.albanyschools.org/schools/montessori/calendar/863
 6972/bright-day
DTSTART:20260612T135600Z
DTEND:20260612T145600Z
END:VEVENT
END:VCALENDAR
