BEGIN:VCALENDAR
VERSION:2.0
PRODID:SchoolNow
CALSCALE:GREGORIAN
BEGIN:VEVENT
UID:71901dd8-b8c6-11f0-972a-0afffa06ec9d
DTSTAMP:20251103T150449Z
SUMMARY:Picture re-takes
URL;VALUE=URI:https://www.albanyschools.org/schools/montessori/calendar/877
 1019/picture-re-takes
DTSTART:20251202T150400Z
DTEND:20251202T160400Z
END:VEVENT
END:VCALENDAR
