BEGIN:VCALENDAR
VERSION:2.0
PRODID:SchoolNow
CALSCALE:GREGORIAN
BEGIN:VEVENT
UID:9b69fd7c-efcb-11f0-b81a-0a58a9feac02
DTSTAMP:20260112T153021Z
SUMMARY:STEM Night
URL;VALUE=URI:https://www.albanyschools.org/schools/montessori/calendar/883
 4920/stem-night
DTSTART:20260311T213000Z
DTEND:20260311T230000Z
END:VEVENT
END:VCALENDAR
