BEGIN:VCALENDAR
VERSION:2.0
PRODID:SchoolNow
CALSCALE:GREGORIAN
BEGIN:VEVENT
UID:2536f8d8-1679-11f1-a0de-0221fbe23d43
DTSTAMP:20260302T204819Z
SUMMARY:Magnet Open House: Montessori
URL;VALUE=URI:https://www.albanyschools.org/schools/montessori/calendar/888
 5038/magnet-open-house-montessori
DTSTART:20260312T220000Z
DTEND:20260312T230000Z
END:VEVENT
END:VCALENDAR
