BEGIN:VCALENDAR
VERSION:2.0
PRODID:SchoolNow
CALSCALE:GREGORIAN
BEGIN:VEVENT
UID:74becf6c-2d07-11f1-96fb-0affdecbe46f
DTSTAMP:20260331T134227Z
SUMMARY:Spring Concert
URL;VALUE=URI:https://www.albanyschools.org/schools/montessori/calendar/896
 0054/spring-concert
DTSTART:20260519T223000Z
DTEND:20260519T233000Z
END:VEVENT
END:VCALENDAR
