BEGIN:VCALENDAR
VERSION:2.0
PRODID:SchoolNow
CALSCALE:GREGORIAN
BEGIN:VEVENT
UID:2ba1db6a-2d09-11f1-a13f-0a58a9feac02
DTSTAMP:20260331T135443Z
SUMMARY:Grade 5 Moving Up Ceremony
URL;VALUE=URI:https://www.albanyschools.org/schools/montessori/calendar/896
 0065/grade-5-moving-up-ceremony
DTSTART:20260624T133000Z
DTEND:20260624T143000Z
END:VEVENT
END:VCALENDAR
