BEGIN:VCALENDAR
VERSION:2.0
PRODID:SchoolNow
CALSCALE:GREGORIAN
BEGIN:VEVENT
UID:10a3d0c6-3834-11f1-868e-0afff8a3431d
DTSTAMP:20260414T185929Z
SUMMARY:Field Day
URL;VALUE=URI:https://www.albanyschools.org/schools/montessori/calendar/899
 3946/field-day
DTSTART:20260609T185900Z
DTEND:20260609T195900Z
END:VEVENT
END:VCALENDAR
