BEGIN:VCALENDAR
VERSION:2.0
PRODID:SchoolNow
CALSCALE:GREGORIAN
BEGIN:VEVENT
UID:030ad828-be07-11e9-939e-0a1f5f0d2de0
DTSTAMP:20190906T144754Z
SUMMARY:Evening in the Garden
URL;VALUE=URI:https://www.albanyschools.org/schools/myers/calendar/2062415/
 evening-in-the-garden
DTSTART:20190918T213000Z
DTEND:20190918T230000Z
END:VEVENT
END:VCALENDAR
