BEGIN:VCALENDAR
VERSION:2.0
PRODID:SchoolNow
CALSCALE:GREGORIAN
BEGIN:VEVENT
UID:030cc0b6-be07-11e9-a637-0a1f5f0d2de0
DTSTAMP:20190904T134027Z
SUMMARY:PTSA meeting
URL;VALUE=URI:https://www.albanyschools.org/schools/myers/calendar/2062463/
 ptsa-meeting
DTSTART:20190921T223000Z
DTEND:20190922T035900Z
END:VEVENT
END:VCALENDAR
