BEGIN:VCALENDAR
VERSION:2.0
PRODID:SchoolNow
CALSCALE:GREGORIAN
BEGIN:VEVENT
UID:030d8140-be07-11e9-88e6-0a1f5f0d2de0
DTSTAMP:20190813T201453Z
SUMMARY:Open House
URL;VALUE=URI:https://www.albanyschools.org/schools/myers/calendar/2062483/
 open-house
DTSTART:20190926T220000Z
DTEND:20190927T000000Z
END:VEVENT
END:VCALENDAR
