BEGIN:VCALENDAR
VERSION:2.0
PRODID:SchoolNow
CALSCALE:GREGORIAN
BEGIN:VEVENT
UID:0310ffe6-be07-11e9-b0fa-0a1f5f0d2de0
DTSTAMP:20190904T135927Z
SUMMARY:Picture Day
URL;VALUE=URI:https://www.albanyschools.org/schools/myers/calendar/2062577/
 picture-day
DTSTART;VALUE=DATE:20191028
DTEND;VALUE=DATE:20191030
END:VEVENT
END:VCALENDAR
