BEGIN:VCALENDAR
VERSION:2.0
PRODID:SchoolNow
CALSCALE:GREGORIAN
BEGIN:VEVENT
UID:03131060-be07-11e9-aa0b-0a1f5f0d2de0
DTSTAMP:20190904T140041Z
SUMMARY:Book Fair
URL;VALUE=URI:https://www.albanyschools.org/schools/myers/calendar/2062676/
 book-fair
DTSTART;VALUE=DATE:20191202
DTEND;VALUE=DATE:20191207
END:VEVENT
END:VCALENDAR
