BEGIN:VCALENDAR
VERSION:2.0
PRODID:SchoolNow
CALSCALE:GREGORIAN
BEGIN:VEVENT
UID:031329f6-be07-11e9-8f71-0a1f5f0d2de0
DTSTAMP:20190904T140059Z
SUMMARY:Honor Roll Celebration
URL;VALUE=URI:https://www.albanyschools.org/schools/myers/calendar/2062681/
 honor-roll-celebration
DTSTART:20191203T133000Z
DTEND:20191203T143000Z
END:VEVENT
END:VCALENDAR
