BEGIN:VCALENDAR
VERSION:2.0
PRODID:SchoolNow
CALSCALE:GREGORIAN
BEGIN:VEVENT
UID:03142252-be07-11e9-a224-0a1f5f0d2de0
DTSTAMP:20190813T201453Z
SUMMARY:Winter Concert
URL;VALUE=URI:https://www.albanyschools.org/schools/myers/calendar/2062725/
 winter-concert
DTSTART:20191212T233000Z
DTEND:20191213T045959Z
END:VEVENT
END:VCALENDAR
