BEGIN:VCALENDAR
VERSION:2.0
PRODID:SchoolNow
CALSCALE:GREGORIAN
BEGIN:VEVENT
UID:03142784-be07-11e9-897e-0a1f5f0d2de0
DTSTAMP:20190904T140121Z
SUMMARY:Picture Re-Take Day
URL;VALUE=URI:https://www.albanyschools.org/schools/myers/calendar/2062726/
 picture-re-take-day
DTSTART;VALUE=DATE:20191212
DTEND;VALUE=DATE:20191213
END:VEVENT
END:VCALENDAR
