BEGIN:VCALENDAR
VERSION:2.0
PRODID:SchoolNow
CALSCALE:GREGORIAN
BEGIN:VEVENT
UID:03173780-be07-11e9-924f-0a1f5f0d2de0
DTSTAMP:20190904T140311Z
SUMMARY:Honor Roll Celebration
URL;VALUE=URI:https://www.albanyschools.org/schools/myers/calendar/2062877/
 honor-roll-celebration
DTSTART:20200225T133000Z
DTEND:20200225T143000Z
END:VEVENT
END:VCALENDAR
