BEGIN:VCALENDAR
VERSION:2.0
PRODID:SchoolNow
CALSCALE:GREGORIAN
BEGIN:VEVENT
UID:031789a6-be07-11e9-b44e-0a1f5f0d2de0
DTSTAMP:20190813T201453Z
SUMMARY:Black History Month Celebration
URL;VALUE=URI:https://www.albanyschools.org/schools/myers/calendar/2062893/
 black-history-month-celebration
DTSTART:20200228T140000Z
DTEND:20200228T150000Z
END:VEVENT
END:VCALENDAR
