BEGIN:VCALENDAR
VERSION:2.0
PRODID:SchoolNow
CALSCALE:GREGORIAN
BEGIN:VEVENT
UID:14cf2f54-cf1a-11e9-a51f-12c5b0a3daea
DTSTAMP:20190924T160956Z
SUMMARY:Cyber Safety Awareness and PTSA meeting
URL;VALUE=URI:https://www.albanyschools.org/schools/myers/calendar/2081260/
 ptsa-meeting
DTSTART:20191021T220000Z
DTEND:20191021T233000Z
END:VEVENT
END:VCALENDAR
