BEGIN:VCALENDAR
VERSION:2.0
PRODID:SchoolNow
CALSCALE:GREGORIAN
BEGIN:VEVENT
UID:473b4390-cf1c-11e9-814b-12d80e58a756
DTSTAMP:20190904T135957Z
SUMMARY:PTSA meeting
URL;VALUE=URI:https://www.albanyschools.org/schools/myers/calendar/2081266/
 ptsa-meeting
DTSTART:20191119T233000Z
DTEND:20191120T003000Z
END:VEVENT
END:VCALENDAR
