BEGIN:VCALENDAR
VERSION:2.0
PRODID:SchoolNow
CALSCALE:GREGORIAN
BEGIN:VEVENT
UID:886301c8-cf1c-11e9-8af2-12d80e58a756
DTSTAMP:20190904T140146Z
SUMMARY:PTSA meeting
URL;VALUE=URI:https://www.albanyschools.org/schools/myers/calendar/2081267/
 ptsa-meeting
DTSTART:20191217T233000Z
DTEND:20191218T003000Z
END:VEVENT
END:VCALENDAR
