BEGIN:VCALENDAR
VERSION:2.0
PRODID:SchoolNow
CALSCALE:GREGORIAN
BEGIN:VEVENT
UID:9d92c75e-cf1c-11e9-94ea-12d80e58a756
DTSTAMP:20190904T140222Z
SUMMARY:PTSA meeting
URL;VALUE=URI:https://www.albanyschools.org/schools/myers/calendar/2081268/
 ptsa-meeting
DTSTART:20200127T233000Z
DTEND:20200128T003000Z
END:VEVENT
END:VCALENDAR
