BEGIN:VCALENDAR
VERSION:2.0
PRODID:SchoolNow
CALSCALE:GREGORIAN
BEGIN:VEVENT
UID:aeb63e62-cf1c-11e9-a29b-12d80e58a756
DTSTAMP:20190904T140250Z
SUMMARY:PTSA meeting
URL;VALUE=URI:https://www.albanyschools.org/schools/myers/calendar/2081269/
 ptsa-meeting
DTSTART:20200224T233000Z
DTEND:20200225T003000Z
END:VEVENT
END:VCALENDAR
