BEGIN:VCALENDAR
VERSION:2.0
PRODID:SchoolNow
CALSCALE:GREGORIAN
BEGIN:VEVENT
UID:927f62f2-d8b1-11e9-bccd-121f9dc736ee
DTSTAMP:20190916T184119Z
SUMMARY:Dads Take Your Child to School light breakfast
URL;VALUE=URI:https://www.albanyschools.org/schools/myers/calendar/2095835/
 dads-take-your-child-to-school-light-breakfast
DTSTART:20190917T120000Z
DTEND:20190917T124500Z
END:VEVENT
END:VCALENDAR
