BEGIN:VCALENDAR
VERSION:2.0
PRODID:SchoolNow
CALSCALE:GREGORIAN
BEGIN:VEVENT
UID:3167f0ee-e093-11e9-901a-0a3e0e0f2a36
DTSTAMP:20200103T174555Z
SUMMARY:Parent University: Vaping and Teen Safety
LOCATION:Stephen and Harriet Myers Middle School
URL;VALUE=URI:https://www.albanyschools.org/schools/myers/calendar/2106653/
 parent-university-at-myers
DTSTART:20200227T223000Z
DTEND:20200228T000000Z
END:VEVENT
END:VCALENDAR
