BEGIN:VCALENDAR
VERSION:2.0
PRODID:SchoolNow
CALSCALE:GREGORIAN
BEGIN:VEVENT
UID:936bb116-e91e-11e9-b9ea-0af6df1d599a
DTSTAMP:20191007T162154Z
SUMMARY:2020-21 academy lottery applications due
URL;VALUE=URI:https://www.albanyschools.org/schools/myers/calendar/2115988/
 2020-21-academy-lottery-applications-due
DTSTART:20191112T130000Z
DTEND:20191113T023700Z
END:VEVENT
END:VCALENDAR
