BEGIN:VCALENDAR
VERSION:2.0
PRODID:SchoolNow
CALSCALE:GREGORIAN
BEGIN:VEVENT
UID:c4b99c9a-6238-11ea-99c6-0a8a7cdfad85
DTSTAMP:20200309T190414Z
SUMMARY:Parent Data Cafe (afternoon)
URL;VALUE=URI:https://www.albanyschools.org/schools/myers/calendar/2215925/
 parent-data-cafe-afternoon
DTSTART:20200312T160000Z
DTEND:20200312T180000Z
END:VEVENT
END:VCALENDAR
